BEGIN:VCALENDAR
VERSION:2.0
PRODID:-//Saint Bark - ECPv6.15.20//NONSGML v1.0//EN
CALSCALE:GREGORIAN
METHOD:PUBLISH
X-WR-CALNAME:Saint Bark
X-ORIGINAL-URL:https://saintbarkmn.com
X-WR-CALDESC:Events for Saint Bark
REFRESH-INTERVAL;VALUE=DURATION:PT1H
X-Robots-Tag:noindex
X-PUBLISHED-TTL:PT1H
BEGIN:VTIMEZONE
TZID:America/Chicago
BEGIN:DAYLIGHT
TZOFFSETFROM:-0600
TZOFFSETTO:-0500
TZNAME:CDT
DTSTART:20250309T080000
END:DAYLIGHT
BEGIN:STANDARD
TZOFFSETFROM:-0500
TZOFFSETTO:-0600
TZNAME:CST
DTSTART:20251102T070000
END:STANDARD
BEGIN:DAYLIGHT
TZOFFSETFROM:-0600
TZOFFSETTO:-0500
TZNAME:CDT
DTSTART:20260308T080000
END:DAYLIGHT
BEGIN:STANDARD
TZOFFSETFROM:-0500
TZOFFSETTO:-0600
TZNAME:CST
DTSTART:20261101T070000
END:STANDARD
BEGIN:DAYLIGHT
TZOFFSETFROM:-0600
TZOFFSETTO:-0500
TZNAME:CDT
DTSTART:20270314T080000
END:DAYLIGHT
BEGIN:STANDARD
TZOFFSETFROM:-0500
TZOFFSETTO:-0600
TZNAME:CST
DTSTART:20271107T070000
END:STANDARD
END:VTIMEZONE
BEGIN:VEVENT
DTSTART;TZID=America/Chicago:20260420T170000
DTEND;TZID=America/Chicago:20260420T190000
DTSTAMP:20260420T032105
CREATED:20260326T214136Z
LAST-MODIFIED:20260326T214136Z
UID:17610-1776704400-1776711600@saintbarkmn.com
SUMMARY:Collie Night
DESCRIPTION:Graceful\, loyal\, and stunning. \nJoin us for Collie Night at Saint Bark\, celebrating these intelligent and elegant herding dogs. \nWhether it’s a Rough Collie with that iconic flowing coat or a smooth-coated beauty\, Collies bring both brains and beauty. Gather the pack and enjoy a night of herding\, hanging out\, and making new friends. \nAll breeds are welcome!
URL:https://saintbarkmn.com/event/collie-night/
LOCATION:Saint Bark\, 1145 Snelling Ave N\, Saint Paul\, MN\, 55108\, United States
ATTACH;FMTTYPE=image/png:https://saintbarkmn.com/wp-content/uploads/2026/03/Breed-night-v4-2.png
END:VEVENT
BEGIN:VEVENT
DTSTART;TZID=America/Chicago:20260427T170000
DTEND;TZID=America/Chicago:20260427T190000
DTSTAMP:20260420T032105
CREATED:20260326T214256Z
LAST-MODIFIED:20260326T215722Z
UID:17615-1777309200-1777316400@saintbarkmn.com
SUMMARY:Hound Night
DESCRIPTION:Join us for Hound Night at Saint Bark\, where the sniffers\, trackers\, and howlers take center stage. \nFrom Beagles to Bloodhounds\, Dachshunds to Coonhounds\, this crew knows how to follow a scent and steal some hearts along the way. \nLet your pup follow their nose straight to the fun! \nAll breeds are welcome!
URL:https://saintbarkmn.com/event/hound-night/
LOCATION:Saint Bark\, 1145 Snelling Ave N\, Saint Paul\, MN\, 55108\, United States
ATTACH;FMTTYPE=image/png:https://saintbarkmn.com/wp-content/uploads/2026/03/Breed-night-v4.png
END:VEVENT
BEGIN:VEVENT
DTSTART;TZID=America/Chicago:20260502T090000
DTEND;TZID=America/Chicago:20260502T130000
DTSTAMP:20260420T032105
CREATED:20260416T231702Z
LAST-MODIFIED:20260416T231946Z
UID:17630-1777712400-1777726800@saintbarkmn.com
SUMMARY:AHS Walk for Animals
DESCRIPTION:Join us for an event supporting animals in need with our amazing community! \nSaint Bark Pack at the Walk for Animals \nEvent Details-\n📍 Location: Minnesota State Fairgrounds (International Bazaar)\n⏰ Gates Open: 9:00 AM\n🚶 Walk Begins: 10:00 AM\n🎉 Event Wrap-Up: 1:00 PM\n🌦 Rain or Shine! \nAll animal lovers (and their pups!) are welcome\, whether you walk\, donate\, or just come for the fun\, it’s all for a great cause! \n🐾 Join the Saint Bark Pack!\nRegister and walk with us here:\nhttps://give.animalhumanesociety.org/team/807980 \n📍 Meet-Up Plan:\nWe will gather at Saint Bark before the event\, then head over to the fairgrounds together as a group.\n1145 Snelling Ave N\, Saint Paul\, MN 55801 \n🍻 Post-Walk Hangout:\nAfter the walk\, come back to Saint Bark to relax\, grab a drink\, and let the pups play while we celebrate a great day supporting animals! \nMore event info:\nhttps://www.animalhumanesociety.org/walkforanimals/eventinfo \nLet’s show up big for the animals! Bring your friends\, your family\, and your furry friends. We can’t wait to walk with you!
URL:https://saintbarkmn.com/event/ahs-walk-for-animals/
LOCATION:MN
ATTACH;FMTTYPE=image/png:https://saintbarkmn.com/wp-content/uploads/2026/04/download.png
END:VEVENT
BEGIN:VEVENT
DTSTART;TZID=America/Chicago:20260505T160000
DTEND;TZID=America/Chicago:20260505T210000
DTSTAMP:20260420T032105
CREATED:20260416T232449Z
LAST-MODIFIED:20260416T232449Z
UID:17634-1777996800-1778014800@saintbarkmn.com
SUMMARY:Cinco de Barko
DESCRIPTION:Cinco de Barko at Saint Bark! \nCelebrate Cinco de Mayo the Saint Bark way at our Cinco de Barko party on Tuesday\, May 5 from 4-9PM! \nJoin us for an evening full of great vibes\, delicious food\, and fun for both you and your pup. We’re bringing in a local food truck to serve up tasty eats\, turning up the music\, and setting the scene with festive photo ops you won’t want to miss! \nFor this special event\, we’ll also be serving margaritas\, available for a limited time only\, so you can sip\, relax\, and enjoy the celebration while your dog plays. \nEvent Details: \n• 📅 Tuesday\, May 5 \n• ⏰ 4:00 PM – 9:00 PM \n• 📍 Saint Bark \n• 🌮 Food Truck On-Site \n• 🎶 Music \n• 📸 Photo Ops \n• 🍹 Margaritas (limited-time feature) \nBring your pup\, bring your crew\, and let’s fiesta 🐶🎉
URL:https://saintbarkmn.com/event/cinco-de-barko/
LOCATION:Saint Bark\, 1145 Snelling Ave N\, Saint Paul\, MN\, 55108\, United States
ATTACH;FMTTYPE=image/png:https://saintbarkmn.com/wp-content/uploads/2026/04/1b369174-131a-4a87-9d7a-8edf8e6df955.png
END:VEVENT
BEGIN:VEVENT
DTSTART;TZID=America/Chicago:20260506T180000
DTEND;TZID=America/Chicago:20260506T200000
DTSTAMP:20260420T032105
CREATED:20260303T183056Z
LAST-MODIFIED:20260303T183056Z
UID:17557-1778090400-1778097600@saintbarkmn.com
SUMMARY:Teachers' Pet Night
DESCRIPTION:Teachers give lessons\, pups give love\, and tonight we’re celebrating both! Join us for Teachers’ Pet Night\, where educators get an A+ discount on park passes for their dogs. \nBring your four-legged “teacher’s pet” and enjoy a night of tail wags\, cold drinks\, and community appreciation. \nCome relax\, connect\, and let your pup play\, it’s homework-free\, tail-wagging fun!
URL:https://saintbarkmn.com/event/teachers-pet-night-6/
LOCATION:Saint Bark\, 1145 Snelling Ave N\, Saint Paul\, MN\, 55108\, United States
ATTACH;FMTTYPE=image/png:https://saintbarkmn.com/wp-content/uploads/2025/10/image0.png
END:VEVENT
BEGIN:VEVENT
DTSTART;TZID=America/Chicago:20260603T180000
DTEND;TZID=America/Chicago:20260603T200000
DTSTAMP:20260420T032105
CREATED:20260303T183241Z
LAST-MODIFIED:20260303T183241Z
UID:17559-1780509600-1780516800@saintbarkmn.com
SUMMARY:Teachers' Pet Night
DESCRIPTION:Teachers give lessons\, pups give love\, and tonight we’re celebrating both! Join us for Teachers’ Pet Night\, where educators get an A+ discount on park passes for their dogs. \nBring your four-legged “teacher’s pet” and enjoy a night of tail wags\, cold drinks\, and community appreciation. \nCome relax\, connect\, and let your pup play\, it’s homework-free\, tail-wagging fun!
URL:https://saintbarkmn.com/event/teachers-pet-night-7/
LOCATION:Saint Bark\, 1145 Snelling Ave N\, Saint Paul\, MN\, 55108\, United States
ATTACH;FMTTYPE=image/png:https://saintbarkmn.com/wp-content/uploads/2025/10/image0.png
END:VEVENT
BEGIN:VEVENT
DTSTART;TZID=America/Chicago:20260701T180000
DTEND;TZID=America/Chicago:20260701T200000
DTSTAMP:20260420T032105
CREATED:20260321T162549Z
LAST-MODIFIED:20260321T162549Z
UID:17551-1782928800-1782936000@saintbarkmn.com
SUMMARY:Teachers' Pet Night
DESCRIPTION:Teachers give lessons\, pups give love\, and tonight we’re celebrating both! Join us for Teachers’ Pet Night\, where educators get an A+ discount on park passes for their dogs. \nBring your four-legged “teacher’s pet” and enjoy a night of tail wags\, cold drinks\, and community appreciation. \nCome relax\, connect\, and let your pup play\, it’s homework-free\, tail-wagging fun!
URL:https://saintbarkmn.com/event/teachers-pet-night-8/
LOCATION:Saint Bark\, 1145 Snelling Ave N\, Saint Paul\, MN\, 55108\, United States
ATTACH;FMTTYPE=image/png:https://saintbarkmn.com/wp-content/uploads/2025/10/image0.png
END:VEVENT
END:VCALENDAR